BEGIN:VCALENDAR
VERSION:2.0
CALSCALE:GREGORIAN
METHOD:PUBLISH
PRODID://OAEM//466138
BEGIN:VEVENT
DTSTAMP:20260421T163142
VTIMEZONE:America/New_York
DTSTART:20251210T180000Z
DTEND:20251210T190000Z
UID:466138
SUMMARY:EM Spotlight Series Webinar - Geographic Information Systems
LOCATION:
DESCRIPTION:EM Spotlight Series Webinar - Geographic Information Systems\n\n12/10/25 01:00 PM EST\n - 12/10/25 02:00 PM EST\Description:\nLearn about the City of Guelph’s Emergency Management Program and GIS application within its Emergency Operations Centre to enhance emergency response capabilities – serving as a centralized system for accessing and visualizing information relevant to emergency management, aiding in decision-making and resource allocation.\nGuest Speaker: Diana Danila, Geographic Information System (GIS) Analyst, Information Technology, City of Guelph.\n
X-ALT-DESC;FMTTYPE=text/html:EM Spotlight Series Webinar - Geographic Information Systems<br /><br />12/10/25 01:00 PM EST - 12/10/25 02:00 PM EST<br />Description:<br /><div style="text-align: justify;"><span style="font-size:16px">Learn about the City of Guelph&rsquo;s Emergency Management Program and GIS application within its Emergency Operations Centre to enhance emergency response capabilities &ndash; serving as a centralized system for accessing and visualizing information relevant to emergency management, aiding in decision-making and resource allocation.<br />
Guest Speaker:&nbsp;<strong>Diana Danila,</strong> Geographic Information System (GIS) Analyst, Information Technology,&nbsp;City of Guelph.</span></div>

PRIORITY:3
TRANSP:TRANSPARENT
BEGIN:VALARM
TRIGGER:-PT5M
ACTION:DISPLAY
DESCRIPTION:Reminder
END:VALARM
END:VEVENT
END:VCALENDAR
